BEGIN:VCALENDAR
VERSION:2.0
PRODID:-//Transborda - ECPv6.15.20//NONSGML v1.0//EN
CALSCALE:GREGORIAN
METHOD:PUBLISH
X-ORIGINAL-URL:https://transborda.org
X-WR-CALDESC:Eventos para Transborda
REFRESH-INTERVAL;VALUE=DURATION:PT1H
X-Robots-Tag:noindex
X-PUBLISHED-TTL:PT1H
BEGIN:VTIMEZONE
TZID:Europe/Lisbon
BEGIN:DAYLIGHT
TZOFFSETFROM:+0000
TZOFFSETTO:+0100
TZNAME:WEST
DTSTART:20250330T010000
END:DAYLIGHT
BEGIN:STANDARD
TZOFFSETFROM:+0100
TZOFFSETTO:+0000
TZNAME:WET
DTSTART:20251026T010000
END:STANDARD
BEGIN:DAYLIGHT
TZOFFSETFROM:+0000
TZOFFSETTO:+0100
TZNAME:WEST
DTSTART:20260329T010000
END:DAYLIGHT
BEGIN:STANDARD
TZOFFSETFROM:+0100
TZOFFSETTO:+0000
TZNAME:WET
DTSTART:20261025T010000
END:STANDARD
BEGIN:DAYLIGHT
TZOFFSETFROM:+0000
TZOFFSETTO:+0100
TZNAME:WEST
DTSTART:20270328T010000
END:DAYLIGHT
BEGIN:STANDARD
TZOFFSETFROM:+0100
TZOFFSETTO:+0000
TZNAME:WET
DTSTART:20271031T010000
END:STANDARD
END:VTIMEZONE
BEGIN:VEVENT
DTSTART;TZID=Europe/Lisbon:20260509T210000
DTEND;TZID=Europe/Lisbon:20260509T220000
DTSTAMP:20260425T143040
CREATED:20260422T173655Z
LAST-MODIFIED:20260423T124610Z
UID:3842-1778360400-1778364000@transborda.org
SUMMARY:MANERAS DE SALIR | VARINIA CANTO VILA (CL)
DESCRIPTION:Partindo de uma investigação sobre a coreografia enquanto forma de tornar visíveis as relações sociais\, alimentada pelos textos da académica espanhola Victoria Pérez-Royo e da francesa Virginie Despentes\, que abordam a ideia de sair do “próprio corpo” e a criação de um “corpo revolucionário”\, Varinia Canto Vila criou Maneras de Salir. Uma performance que explora a distância e a proximidade\, propondo uma reflexão sobre a construção social em que cada pessoa se move no seu quotidiano. \n“O que encontramos nesta criação é que as nossas vidas decorrem numa infinidade de distâncias sociais\, económicas\, ideológicas\, emocionais\, de estilo de vida que nos distanciam e\, ao mesmo tempo\, nos unem”\, afirma a coreógrafa chilena. \nCom um toque de humor e ironia\, três bailarinos oscilam entre diferentes pontos do espaço\, tanto interiormente como no lugar que ocupam na sala. “O que proponho é que o corpo não se revela através da identificação\, mas sim através do posicionamento”\, explica a criadora. “A posição que assumimos em relação a outra pessoa manifesta-se de forma clara e\, ao mesmo tempo\, relativa\, dependendo de com quem estamos a falar. Na obra\, perguntamo-nos: De que lugar se está a falar? Quando estamos num lugar\, quantos espaços habitamos ao mesmo tempo? Quais são as verdadeiras distâncias entre um ponto e outro?” \n\nFicha Artística\nConceito e coreografia: Varinia Canto Vila\nInterpretação: Rodrigo Chaverini\, Poly Rodriguez Sanhueza e Varinia Canto Vila\nCriação sonora: Loreto Ríos Montecinos\nDesenho de luz: Eduardo Cerón\nApoio: Centro Nave e Centro Gabriela Mistral\nApoio na 6.ª Transborda: Iberescena \n\nVarinia Canto Vila (Santiago do Chile\, 1976) é bailarina\, coreógrafa e investigadora. A sua prática criativa recente desenvolve-se na interseção entre arte e política. Em 2016\, iniciou um projeto de investigação sobre a relação entre a lei e o movimento; em 2023\, criou a peça cénica Maneras de Salir\, que aborda as distâncias e proximidades entre as pessoas e as suas realidades socioeconómicas e políticas; e\, em 2024\, estreou MUNDOS\, baseada na noção de sociedade fragmentada. Apresentou o seu trabalho na Bélgica\, Argentina\, Polónia e Chile. Formou-se como bailarina na Universidade do Chile\, em 1987\, e na escola P.A.R.T.S.\, na Bélgica\, em 1999. Em 2014\, obteve um mestrado em Arte e Política pela Goldsmiths University (Reino Unido) e\, em 2017\, concluiu uma pós-graduação na a.pass\, em Bruxelas — cidade onde viveu durante 24 anos\, colaborando com diversos artistas e coreógrafos da cena independente de dança/performance. Como bailarina\, trabalhou com Meg Stuart\, Moriah Evans\, Las Delíricas e Javiera Peón-Veiga\, no Chile\, entre outros. \n\nM/6 \n  \nFoto: ©MilaErcoli
URL:https://transborda.org/event/maneras-de-salir-varinia-canto-vila-cl/
LOCATION:Teatro Municipal Joaquim Benite – Sala Principal\, Av. Prof. Egas Moniz\, Almada\, 2804-503\, Portugal
CATEGORIES:Apresentacoes
ATTACH;FMTTYPE=image/jpeg:https://transborda.org/wp-content/uploads/2026/04/MdS-Luz-2-©-Mila-Ercoli_6.jpg
END:VEVENT
END:VCALENDAR