BEGIN:VCALENDAR
VERSION:2.0
PRODID:-//Transborda - ECPv6.15.20//NONSGML v1.0//EN
CALSCALE:GREGORIAN
METHOD:PUBLISH
X-WR-CALNAME:Transborda
X-ORIGINAL-URL:https://transborda.org
X-WR-CALDESC:Eventos para Transborda
REFRESH-INTERVAL;VALUE=DURATION:PT1H
X-Robots-Tag:noindex
X-PUBLISHED-TTL:PT1H
BEGIN:VTIMEZONE
TZID:Europe/Lisbon
BEGIN:DAYLIGHT
TZOFFSETFROM:+0000
TZOFFSETTO:+0100
TZNAME:WEST
DTSTART:20250330T010000
END:DAYLIGHT
BEGIN:STANDARD
TZOFFSETFROM:+0100
TZOFFSETTO:+0000
TZNAME:WET
DTSTART:20251026T010000
END:STANDARD
BEGIN:DAYLIGHT
TZOFFSETFROM:+0000
TZOFFSETTO:+0100
TZNAME:WEST
DTSTART:20260329T010000
END:DAYLIGHT
BEGIN:STANDARD
TZOFFSETFROM:+0100
TZOFFSETTO:+0000
TZNAME:WET
DTSTART:20261025T010000
END:STANDARD
BEGIN:DAYLIGHT
TZOFFSETFROM:+0000
TZOFFSETTO:+0100
TZNAME:WEST
DTSTART:20270328T010000
END:DAYLIGHT
BEGIN:STANDARD
TZOFFSETFROM:+0100
TZOFFSETTO:+0000
TZNAME:WET
DTSTART:20271031T010000
END:STANDARD
END:VTIMEZONE
BEGIN:VEVENT
DTSTART;TZID=Europe/Lisbon:20260508T210000
DTEND;TZID=Europe/Lisbon:20260508T220000
DTSTAMP:20260425T142857
CREATED:20260422T173023Z
LAST-MODIFIED:20260423T124554Z
UID:3838-1778274000-1778277600@transborda.org
SUMMARY:A Coleção do meu Pai - AMINA | Sete Anos / Companhia de Dança do Seixal / CLÁUDIA DIAS (PT)
DESCRIPTION:AMINA\, o segundo capítulo do ciclo de criação A Coleção do Meu Pai (2023-2033)\, parte do livro Cerromaior\, de Manuel da Fonseca\, para imaginar uma cidade fictícia. O processo de criação inclui uma antecâmara de investigação coletiva e sessões de dança comunitária\, reunindo uma equipa intergeracional\, intercultural e multidisciplinar. \nDo livro Cerromaior extraiu-se a ideia de olhar para um território específico\, neste caso\, a Margem Sul\, uma zona periférica aos centros de poder\, habitada por pessoas cada vez mais diversas\, mas unidas por um fator comum: a opressão persistente do capitalismo. A peça observa o quotidiano dessas pessoas\, abordando questões triviais mas impactantes\, como a qualidade dos transportes públicos\, o acesso aos cuidados de saúde\, a pobreza energética nas habitações\, entre outras.\nOs intérpretes trouxeram ainda outras referências que moldaram o trabalho\, nomeadamente a Mesa Verde\, de Kurt Jooss\, uma peça criada entre as duas guerras mundiais\, que estabelece um paralelismo com os tempos atuais e oferece um contexto mais amplo; o livro Dias Úteis\, de Patrícia Portela\, que inspirou a ideia de jogo e do dispositivo cénico; e as vozes e palavras do Grupo de Ação Cultural – Vozes na Luta\, um coletivo de cantores e músicos politicamente empenhados\, nascido durante o período revolucionário em Portugal. \nO resultado destas combinações é uma peça composta por múltiplos jogos\, onde a palavra\, o ritmo\, o corpo e a manipulação de objetos transmitem a veracidade possível deste território e do seu pulsar. O tom é cru\, irónico\, cínico e indignado\, situando-a fora dos limites do politicamente correto. \n\nFicha Artística\nDirecção artística: Cláudia Dias\nTexto: Colectivo\nInterpretação: Beatriz Rodrigues\, Cláudia Dias\, Mayara Pessanha\, Roge Costa e Xullaji\nMúsica original: Xullaji\nDirecção técnica e iluminação: Nuno Borda d’Água\nApoio técnico de som: Ruca Lacerda\nFigurinos: Aldina Jesus Atelier\nMaquete: José Borges e Mayara Pessanha\nComunicação e imprensa: Raquel Cunha\nFotografia: Alípio Padilha\nDirecção de produção: Lina Duarte\nProdução: Companhia de Dança do Seixal / Sete Anos\nCoprodutores: Câmara Municipal do Seixal\, Câmara Municipal de Matosinhos / Teatro Municipal de Matosinhos Constantino Nery\, TAGV – Teatro Académico de Gil Vicente\nCoprodução em residência: O Espaço do Tempo\nApoios: República Portuguesa – Cultura\, Juventude e Desporto / Direcção-Geral das Artes\, Fundação Calouste Gulbenkian\nParceiros: Casa da Dança (Almada)\, Clube Recreativo e Desportivo de Miratejo\, Media Partner\, CoffeePaste\nApoio à divulgação: Antena 2\, Avante!\nNota: A Sete Anos possui declaração de entidade de Interesse Cultural pelo Ministério da Cultura\, Juventude e Desporto. \n\nCláudia Dias é coreógrafa\, performer\, formadora\, diretora dos projetos Sete Anos Sete Peças\, Sete Anos Sete Escolas\, A Coleção do Meu Pai e ARECA. É fundadora da SETE ANOS / Companhia de Dança do Seixal\, onde exerce funções de direção artística e de coreógrafa. Iniciou a sua formação em dança na Academia Almadense\, foi bolseira na Companhia de Dança de Lisboa\, concluiu o Curso de Formação de Intérpretes de Dança Contemporânea no Fórum Dança e o Mestrado em Artes Cénicas na Universidade Nova de Lisboa (UNL). Foi bailarina no Grupo de Dança de Almada\, artista associada da Re.Al e do Espaço do Tempo\, e artista residente no Alkantara. Foi nomeada para o Prémio de Melhor Coreografia\, em 2013 e 2017\, pela SPA. As suas peças foram\, por diversas vezes\, eleitas pela crítica nacional entre os melhores trabalhos do ano. \n\nM/6 \n  \nBilhetes\nFórum Municipal Romeu Correia\nPraça da Liberdade\, Almada\nReservas: +351 21 272 49 22 | auditorio@cma.m-almada.pt \n  \nFoto: ©AlipioPadilha
URL:https://transborda.org/event/amina-claudia-dias-pt/
LOCATION:Forúm Municipal Romeu Correia\, Praça da Liberdade\, Almada\, Setúbal\, 2800-648\, Portugal
CATEGORIES:Apresentacoes
ATTACH;FMTTYPE=image/png:https://transborda.org/wp-content/uploads/2026/04/PAD4377©AP.jpg.png
END:VEVENT
END:VCALENDAR